Workbook

Sheet Kisajärjestelmä
B1: Kilpailun nimi | E1: vuosi
B2: KILPAILUJÄRJESTELMÄ
B4: Sarja | C4: Osallistujia | D4: Toteuma-arvio | E4: Kisajärjestelmä | F4: Alueet | K4: Aloitus | M4: Tarvittavat alueet (alkuerät)
C5: =E1-1 -> #VALUE! | D5: Tämä kopioituu | F5: 7:llä | G5: 7 erä | H5: 6 erä | I5: 5 erä | J5: tark.
A7: Lauantai | F7: =D7/7 -> 0 | J7: =G7*7+H7*6+I7*5 -> 0 | M7: =SUM(G7:I7) -> 0
F9: =D9/7 -> 0 | J9: =G9*7+H9*6+I9*5 -> 0 | M9: =SUM(G9:I9) -> 0
F11: =D11/7 -> 0 | J11: =G11*7+H11*6+I11*5 -> 0 | M11: =SUM(G11:I11) -> 0
F13: =D13/7 -> 0 | J13: =G13*7+H13*6+I13*5 -> 0 | M13: =SUM(G13:I13) -> 0
A16: Sunnuntai | F16: =D16/7 -> 0 | J16: =G16*7+H16*6+I16*5 -> 0 | M16: =SUM(G16:I16) -> 0
F18: =D18/7 -> 0 | J18: =G18*7+H18*6+I18*5 -> 0 | M18: =SUM(G18:I18) -> 0
F20: =D20/7 -> 0 | J20: =G20*7+H20*6+I20*5 -> 0 | M20: =SUM(G20:I20) -> 0
F22: =D22/7 -> 0 | J22: =G22*7+H22*6+I22*5 -> 0 | M22: =SUM(G22:I22) -> 0
F24: =D24/7 -> 0 | J24: =G24*7+H24*6+I24*5 -> 0 | M24: =SUM(G24:I24) -> 0
C25: =SUM(C6:C24) -> 0 | D25: =SUM(D6:D24) -> 0 | J25: =SUM(J6:J24) -> 0
C26: EROTUS | D26: =D25-C25 -> 0
B28: JOUKKUEIDEN KILPAILUJÄRJESTELMÄ
B29: Sarja | C29: Osallistujia | D29: Toteuma-arvio | E29: Kisajärjestelmä | F29: Alueet | K29: Aloitus | M29: Tarvittavat alueet (alkuerät)
C30: =E1-1 -> #VALUE! | D30: Tämä kopioituu | F30: 4:llä | G30: 5 erä | H30: 4 erä | I30: 3 erä | J30: tark.
A32: Päivä | F32: =D32/4 -> 0 | J32: =G32*5+H32*4+I32*3 -> 0 | M32: =SUM(G32:I32) -> 0
F34: =D34/4 -> 0 | J34: =G34*5+H34*4+I34*3 -> 0 | M34: =SUM(G34:I34) -> 0

Sheet Lauantai
B1: SATURDAY
A3: Series | B3: =Kisajärjestelmä!B7 -> 0 | C3: =Kisajärjestelmä!B9 -> 0 | D3: =Kisajärjestelmä!B11 -> 0 | E3: =Kisajärjestelmä!B13 -> 0 | F3: <- tämä kopioituu 1. välilehdeltä B sarakkeesta
A4: Registered | B4: =Kisajärjestelmä!D7 -> 0 | C4: =Kisajärjestelmä!D9 -> 0 | D4: =Kisajärjestelmä!D11 -> 0 | E4: =Kisajärjestelmä!D13 -> 0 | F4: <- tämä luku kopioituu 1. välilehdeltä D sarakkeesta
A5: Pistes for need pools | B5: =Kisajärjestelmä!M7 -> 0 | C5: =Kisajärjestelmä!M9 -> 0 | D5: =Kisajärjestelmä!M11 -> 0 | E5: =Kisajärjestelmä!M13 -> 0 | F5: <- tämä luku kopioituu 1. välilehdeltä S sarakkeesta
A6: Starting time | B6: =Kisajärjestelmä!K7 -> 0 | C6: =Kisajärjestelmä!K9 -> 0 | D6: =Kisajärjestelmä!K11 -> 0 | E6: =Kisajärjestelmä!K13 -> 0 | F6: <- tämä luku kopioituu 1. välilehdeltä K sarakkeesta
A7: Elimination | B7: =(B4-B8)/B4 -> #DIV/0! | C7: =(C4-C8)/C4 -> #DIV/0! | D7: =(D4-D8)/D4 -> #DIV/0! | E7: =(E4-E8)/E4 -> #DIV/0! | F7: <- tästä voi nähdä pudotettujen %määrän (perustuu riville 8 syötettyyn arvoon)
A8: Qualified | F8: <- tähän syötetään haluttu määrä jatkoon pääseviä
A9: The First round of DE | F9: <- tähän syötetään ensimmäisen DE vaiheen numero (esim. 30 pääsee jatkoon -> eka DE 32
A10: Mathes in the first round of DE | B10: =B9/2-(B9-B8) -> 0 | C10: =C9/2-(C9-C8) -> 0 | D10: =D9/2-(D9-D8) -> 0 | E10: =E9/2-(E9-E8) -> 0 | F10: <- tästä näkee ensimmäisen DE vaiheen matsien määrän (jatkossa matsien määrä = DE numero / 2)
A13: Pistes preliminary
D14: 1 | E14: 2 | F14: 3 | G14: 4 | H14: 5 | I14: 6 | J14: 7 | K14: 8 | L14: 9 | M14: 10 | N14: 11 | O14: 12
B15: Start | C15: End | P15: Start | Q15: End
B16: 8.3 | C16: =B17 -> 8.45 | P16: 8.3 | Q16: =P17 -> 8.45
B17: =B16+0.15 -> 8.45 | C17: =B18 -> 9 | P17: =P16+0.15 -> 8.45 | Q17: =P18 -> 9
B18: 9 | C18: =B19 -> 9.15 | P18: 9 | Q18: =P19 -> 9.15
B19: =B18+0.15 -> 9.15 | C19: =B20 -> 9.3 | P19: =P18+0.15 -> 9.15 | Q19: =P20 -> 9.3
B20: =B19+0.15 -> 9.3 | C20: =B21 -> 9.45 | P20: =P19+0.15 -> 9.3 | Q20: =P21 -> 9.45
B21: =B20+0.15 -> 9.45 | C21: =B22 -> 10 | P21: =P20+0.15 -> 9.45 | Q21: =P22 -> 10
B22: 10 | C22: =B23 -> 10.15 | P22: 10 | Q22: =P23 -> 10.15
B23: =B22+0.15 -> 10.15 | C23: =B24 -> 10.3 | P23: =P22+0.15 -> 10.15 | Q23: =P24 -> 10.3
B24: =B23+0.15 -> 10.3 | C24: =B25 -> 10.45 | P24: =P23+0.15 -> 10.3 | Q24: =P25 -> 10.45
B25: =B24+0.15 -> 10.45 | C25: =B26 -> 11 | P25: =P24+0.15 -> 10.45 | Q25: =P26 -> 11
B26: 11 | C26: =B27 -> 11.15 | P26: 11 | Q26: =P27 -> 11.15
B27: =B26+0.15 -> 11.15 | C27: =B28 -> 11.3 | P27: =P26+0.15 -> 11.15 | Q27: =P28 -> 11.3
B28: =B27+0.15 -> 11.3 | C28: =B29 -> 11.45 | P28: =P27+0.15 -> 11.3 | Q28: =P29 -> 11.45
B29: =B28+0.15 -> 11.45 | C29: =B30 -> 12 | P29: =P28+0.15 -> 11.45 | Q29: =P30 -> 12
B30: 12 | C30: =B31 -> 12.15 | P30: 12 | Q30: =P31 -> 12.15
B31: =B30+0.15 -> 12.15 | C31: =B32 -> 12.3 | P31: =P30+0.15 -> 12.15 | Q31: =P32 -> 12.3
B32: =B31+0.15 -> 12.3 | C32: =B33 -> 12.45 | P32: =P31+0.15 -> 12.3 | Q32: =P33 -> 12.45
B33: =B32+0.15 -> 12.45 | C33: =B34 -> 13 | P33: =P32+0.15 -> 12.45 | Q33: =P34 -> 13
B34: 13 | C34: =B35 -> 13.15 | P34: 13 | Q34: =P35 -> 13.15
B35: =B34+0.15 -> 13.15 | C35: =B36 -> 13.3 | P35: =P34+0.15 -> 13.15 | Q35: =P36 -> 13.3
B36: =B35+0.15 -> 13.3 | C36: =B37 -> 13.45 | P36: =P35+0.15 -> 13.3 | Q36: =P37 -> 13.45
B37: =B36+0.15 -> 13.45 | C37: =B38 -> 14 | P37: =P36+0.15 -> 13.45 | Q37: =P38 -> 14
B38: 14 | C38: =B39 -> 14.15 | P38: 14 | Q38: =P39 -> 14.15
B39: =B38+0.15 -> 14.15 | C39: =B40 -> 14.3 | P39: =P38+0.15 -> 14.15 | Q39: =P40 -> 14.3
B40: =B39+0.15 -> 14.3 | C40: =B41 -> 14.45 | P40: =P39+0.15 -> 14.3 | Q40: =P41 -> 14.45
B41: =B40+0.15 -> 14.45 | C41: =B42 -> 15 | P41: =P40+0.15 -> 14.45 | Q41: =P42 -> 15
B42: 15 | C42: =B43 -> 15.15 | P42: 15 | Q42: =P43 -> 15.15
B43: =B42+0.15 -> 15.15 | C43: =B44 -> 15.3 | P43: =P42+0.15 -> 15.15 | Q43: =P44 -> 15.3
...

Sheet Sunnuntai
B1: SUNDAY
A3: Series | B3: =Kisajärjestelmä!B16 -> 0 | C3: =Kisajärjestelmä!B18 -> 0 | D3: =Kisajärjestelmä!B20 -> 0 | E3: =Kisajärjestelmä!B22 -> 0 | F3: =Kisajärjestelmä!B24 -> 0 | G3: <- tämä kopioituu 1. välilehdeltä B sarakkeesta
A4: Registered | B4: =Kisajärjestelmä!D16 -> 0 | C4: =Kisajärjestelmä!D18 -> 0 | D4: =Kisajärjestelmä!D20 -> 0 | E4: =Kisajärjestelmä!D22 -> 0 | F4: =Kisajärjestelmä!D24 -> 0 | G4: <- tämä luku kopioituu 1. välilehdeltä D sarakkeesta
A5: Pistes for need pools | B5: =Kisajärjestelmä!M16 -> 0 | C5: =Kisajärjestelmä!M18 -> 0 | D5: =Kisajärjestelmä!M20 -> 0 | E5: =Kisajärjestelmä!M22 -> 0 | F5: =Kisajärjestelmä!M24 -> 0 | G5: <- tämä luku kopioituu 1. välilehdeltä S sarakkeesta
A6: Starting time | B6: =Kisajärjestelmä!K16 -> 0 | C6: =Kisajärjestelmä!K18 -> 0 | D6: =Kisajärjestelmä!K20 -> 0 | E6: =Kisajärjestelmä!K22 -> 0 | F6: =Kisajärjestelmä!K24 -> 0 | G6: <- tämä luku kopioituu 1. välilehdeltä K sarakkeesta
A7: Elimination | B7: =(B4-B8)/B4 -> #DIV/0! | C7: =(C4-C8)/C4 -> #DIV/0! | D7: =(D4-D8)/D4 -> #DIV/0! | E7: =(E4-E8)/E4 -> #DIV/0! | F7: =(F4-F8)/F4 -> #DIV/0! | G7: <- tästä voi nähdä pudotettujen %määrän (perustuu riville 8 syötettyyn arvoon)
A8: Qualified | G8: <- tähän syötetään haluttu määrä jatkoon pääseviä
A9: The First round of DE | G9: <- tähän syötetään ensimmäisen DE vaiheen numero (esim. 30 pääsee jatkoon -> eka DE 32
A10: Mathes in the first round of DE | B10: =B9/2-(B9-B8) -> 0 | C10: =C9/2-(C9-C8) -> 0 | D10: =D9/2-(D9-D8) -> 0 | E10: =E9/2-(E9-E8) -> 0 | F10: =F9/2-(F9-F8) -> 0 | G10: <- tästä näkee ensimmäisen DE vaiheen matsien määrän (jatkossa matsien määrä = DE numero / 2)
A13: Pistes preliminary
D14: 1 | E14: 2 | F14: 3 | G14: 4 | H14: 5 | I14: 6 | J14: 7 | K14: 8 | L14: 9 | M14: 10 | N14: 11 | O14: 12
B15: Start | C15: End | P15: Start | Q15: End
B16: 8.3 | C16: =B17 -> 8.45 | P16: 8.3 | Q16: =P17 -> 8.45
B17: =B16+0.15 -> 8.45 | C17: =B18 -> 9 | P17: =P16+0.15 -> 8.45 | Q17: =P18 -> 9
B18: 9 | C18: =B19 -> 9.15 | P18: 9 | Q18: =P19 -> 9.15
B19: =B18+0.15 -> 9.15 | C19: =B20 -> 9.3 | P19: =P18+0.15 -> 9.15 | Q19: =P20 -> 9.3
B20: =B19+0.15 -> 9.3 | C20: =B21 -> 9.45 | P20: =P19+0.15 -> 9.3 | Q20: =P21 -> 9.45
B21: =B20+0.15 -> 9.45 | C21: =B22 -> 10 | P21: =P20+0.15 -> 9.45 | Q21: =P22 -> 10
B22: 10 | C22: =B23 -> 10.15 | P22: 10 | Q22: =P23 -> 10.15
B23: =B22+0.15 -> 10.15 | C23: =B24 -> 10.3 | P23: =P22+0.15 -> 10.15 | Q23: =P24 -> 10.3
B24: =B23+0.15 -> 10.3 | C24: =B25 -> 10.45 | P24: =P23+0.15 -> 10.3 | Q24: =P25 -> 10.45
B25: =B24+0.15 -> 10.45 | C25: =B26 -> 11 | P25: =P24+0.15 -> 10.45 | Q25: =P26 -> 11
B26: 11 | C26: =B27 -> 11.15 | P26: 11 | Q26: =P27 -> 11.15
B27: =B26+0.15 -> 11.15 | C27: =B28 -> 11.3 | P27: =P26+0.15 -> 11.15 | Q27: =P28 -> 11.3
B28: =B27+0.15 -> 11.3 | C28: =B29 -> 11.45 | P28: =P27+0.15 -> 11.3 | Q28: =P29 -> 11.45
B29: =B28+0.15 -> 11.45 | C29: =B30 -> 12 | P29: =P28+0.15 -> 11.45 | Q29: =P30 -> 12
B30: 12 | C30: =B31 -> 12.15 | P30: 12 | Q30: =P31 -> 12.15
B31: =B30+0.15 -> 12.15 | C31: =B32 -> 12.3 | P31: =P30+0.15 -> 12.15 | Q31: =P32 -> 12.3
B32: =B31+0.15 -> 12.3 | C32: =B33 -> 12.45 | P32: =P31+0.15 -> 12.3 | Q32: =P33 -> 12.45
B33: =B32+0.15 -> 12.45 | C33: =B34 -> 13 | P33: =P32+0.15 -> 12.45 | Q33: =P34 -> 13
B34: 13 | C34: =B35 -> 13.15 | P34: 13 | Q34: =P35 -> 13.15
B35: =B34+0.15 -> 13.15 | C35: =B36 -> 13.3 | P35: =P34+0.15 -> 13.15 | Q35: =P36 -> 13.3
B36: =B35+0.15 -> 13.3 | C36: =B37 -> 13.45 | P36: =P35+0.15 -> 13.3 | Q36: =P37 -> 13.45
B37: =B36+0.15 -> 13.45 | C37: =B38 -> 14 | P37: =P36+0.15 -> 13.45 | Q37: =P38 -> 14
B38: 14 | C38: =B39 -> 14.15 | P38: 14 | Q38: =P39 -> 14.15
B39: =B38+0.15 -> 14.15 | C39: =B40 -> 14.3 | P39: =P38+0.15 -> 14.15 | Q39: =P40 -> 14.3
B40: =B39+0.15 -> 14.3 | C40: =B41 -> 14.45 | P40: =P39+0.15 -> 14.3 | Q40: =P41 -> 14.45
B41: =B40+0.15 -> 14.45 | C41: =B42 -> 15 | P41: =P40+0.15 -> 14.45 | Q41: =P42 -> 15
B42: 15 | C42: =B43 -> 15.15 | P42: 15 | Q42: =P43 -> 15.15
B43: =B42+0.15 -> 15.15 | C43: =B44 -> 15.3 | P43: =P42+0.15 -> 15.15 | Q43: =P44 -> 15.3
...

Sheet Tuomarit
B1: Nimi | C1: Velvoite | D1: Lauantai | H1: Nimi | I1: Velvoite | J1: Sunnuntai
A2: Tarve max.
A3: Sarja | D3: =Kisajärjestelmä!B7 -> 0 | E3: =Kisajärjestelmä!B9 -> 0 | F3: =Kisajärjestelmä!B11 -> 0 | G3: =Kisajärjestelmä!B13 -> 0 | J3: =Kisajärjestelmä!B16 -> 0 | K3: =Kisajärjestelmä!B18 -> 0 | L3: =Kisajärjestelmä!B20 -> 0 | M3: =Kisajärjestelmä!B22 -> 0
A4: TARVE
A5: 1
A6: =A5+1 -> 2
A7: =A6+1 -> 3
A8: =A7+1 -> 4
A9: =A8+1 -> 5
A10: =A9+1 -> 6
A11: =A10+1 -> 7
A12: =A11+1 -> 8
A13: =A12+1 -> 9
A14: =A13+1 -> 10
A15: =A14+1 -> 11
A16: =A15+1 -> 12
A17: =A16+1 -> 13
... A29: =A28+1 -> 25

Sheet Aluekartta
C1: 1 | E1: 2 | G1: 3 | I1: 4 | K1: 5 | M1: 6 | O1: 7 | Q1: 8 | S1: 9 | U1: 10 | W1: 11 | Y1: 12 | AA1: 13 | AC1: 14 | AE1: 15 | AG1: 16 | AI1: 17 | AK1: 18 | AM1: 19 | AO1: 20 | AQ1: 21 | AS1: 22 | AU1: 23 | AW1: 24 | AY1: 25 | BA1: 26 | BC1: 27 | BE1: 28 | BG1: 29 | BI1: 30 | BK1: 31 | BM1: 32 | BO1: 33 | BQ1: 34 | BS1: 35 | BU1: 36 | BW1: 37 | BY1: 38 | CA1: 39 | CC1: 40 | CE1: 41 | CG1: 42 | CH1: metriä
A2: 0,50
A3: 1
A4: 1,50
A5: 2
A6: 2,50
A7: 3
A8: 3,50
A9: 4
A10: 4,50
A11: 5
A12: 5,50
A13: 6
A14: 6,50
A15: 7
A16: 7,50
A17: 8
A18: 8,50
A19: 9
A20: 9,50
A21: 10
A22: 10,50
A23: 11
A24: 11,50
A25: 12
A26: 12,50
A27: 13
A28: 13,50
A29: 14
A30: 14,50
A31: 15
A32: 15,50
A33: 16
A34: 16,50
A35: 17
A36: 17,50
A37: 18
A38: 18,50
A39: 19
A40: 19,50
...

Sheet Esitäytetyt -->

Sheet Kisajärjestelmä_täytetty
B1: Kilpailun nimi | E1: 2026
B2: KILPAILUJÄRJESTELMÄ
B4: Sarja | C4: Osallistujia | D4: Toteuma-arvio | E4: Kisajärjestelmä | F4: Alueet | K4: Aloitus | M4: Tarvittavat alueet (alkuerät)
C5: =E1-1 -> 2025 | D5: Tämä kopioituu | F5: 7:llä | G5: 7 erä | H5: 6 erä | I5: 5 erä | J5: tark.
A7: Lauantai | B7: U20 pojat | C7: 18 | D7: =C7*1.1 -> 19.8 | E7: alkuerät + DE | F7: =D7/7 -> 2.8285714 | G7: 2 | H7: 1 | J7: =G7*7+H7*6+I7*5 -> 20 | K7: la 9.00 | M7: =SUM(G7:I7) -> 3
B9: U20 tytöt | C9: 24 | D9: =C9*1.1 -> 26.4 | E9: alkuerät + DE | F9: =D9/7 -> 3.7714286 | G9: 2 | H9: 2 | J9: =G9*7+H9*6+I9*5 -> 26 | K9: la 9.00 | M9: =SUM(G9:I9) -> 4
B11: U15 pojat | C11: 27 | D11: =C11*1.1 -> 29.7 | E11: alkuerät + DE | F11: =D11/7 -> 4.2428571 | H11: 5 | J11: =G11*7+H11*6+I11*5 -> 30 | K11: la 13.00 | M11: =SUM(G11:I11) -> 5
B13: U15 tytöt | C13: 32 | D13: =C13*1.1 -> 35.2 | E13: alkuerät + DE | F13: =D13/7 -> 5.0285714 | G13: 5 | J13: =G13*7+H13*6+I13*5 -> 35 | K13: la 13.00 | M13: =SUM(G13:I13) -> 5
A16: Sunnuntai | B16: Miehet | C16: 49 | D16: 55 | E16: alkuerät + DE | F16: =D16/7 -> 7.8571429 | G16: 7 | H16: 1 | J16: =G16*7+H16*6+I16*5 -> 55 | K16: su 9.00 | M16: =SUM(G16:I16) -> 8
B18: Naiset | C18: 38 | D18: 42 | E18: alkuerät + DE | F18: =D18/7 -> 6 | G18: 6 | J18: =G18*7+H18*6+I18*5 -> 42 | K18: su 11.00 | M18: =SUM(G18:I18) -> 6
F20: =D20/7 -> 0 | J20: =G20*7+H20*6+I20*5 -> 0 | M20: =SUM(G20:I20) -> 0
F22: =D22/7 -> 0 | J22: =G22*7+H22*6+I22*5 -> 0 | M22: =SUM(G22:I22) -> 0
F24: =D24/7 -> 0 | J24: =G24*7+H24*6+I24*5 -> 0 | M24: =SUM(G24:I24) -> 0
C25: =SUM(C6:C24) -> 188 | D25: =SUM(D6:D24) -> 208.1 | J25: =SUM(J6:J24) -> 208
C26: EROTUS | D26: =D25-C25 -> 20.1
B28: JOUKKUEIDEN KILPAILUJÄRJESTELMÄ
B29: Sarja | C29: Osallistujia | D29: Toteuma-arvio | E29: Kisajärjestelmä | F29: Alueet | K29: Aloitus | M29: Tarvittavat alueet (alkuerät)
C30: =E1-1 -> 2025 | D30: Tämä kopioituu | F30: 4:llä | G30: 5 erä | H30: 4 erä | I30: 3 erä | J30: tark.
A32: Päivä | B32: Miehet joukkue | C32: 11 | D32: 13 | E32: alkuerät + DE | F32: =D32/4 -> 3.25 | H32: 1 | I32: 3 | J32: =G32*5+H32*4+I32*3 -> 13 | M32: =SUM(G32:I32) -> 4
B34: Naiset joukkue | C34: 9 | D34: 11 | E34: alkuerät + DE | F34: =D34/4 -> 2.75 | H34: 2 | I34: 1 | J34: =G34*5+H34*4+I34*3 -> 11 | M34: =SUM(G34:I34) -> 3

Sheet Lauantai_täytetty
B1: SATURDAY
A3: Series | B3: =[1]Kisajärjestelmä!B7 -> U20 pojat | C3: =[1]Kisajärjestelmä!B9 -> U20 tytöt | D3: =[1]Kisajärjestelmä!B11 -> U15 pojat | E3: =[1]Kisajärjestelmä!B13 -> U15 tytöt | F3: <- tämä kopioituu 1. välilehdeltä B sarakkeesta
A4: Registered | B4: =[1]Kisajärjestelmä!D7 -> 19.8 | C4: =[1]Kisajärjestelmä!D9 -> 26.4 | D4: =[1]Kisajärjestelmä!D11 -> 29.7 | E4: =[1]Kisajärjestelmä!D13 -> 35.2 | F4: <- tämä luku kopioituu 1. välilehdeltä D sarakkeesta
A5: Pistes for need pools | B5: =[1]Kisajärjestelmä!S7 -> 3 | C5: =[1]Kisajärjestelmä!S9 -> 4 | D5: =[1]Kisajärjestelmä!S11 -> 5 | E5: =[1]Kisajärjestelmä!S13 -> 5 | F5: <- tämä luku kopioituu 1. välilehdeltä S sarakkeesta
A6: Starting time | B6: =[1]Kisajärjestelmä!K7 -> la 9.00 | C6: =[1]Kisajärjestelmä!K9 -> la 9.00 | D6: =[1]Kisajärjestelmä!K11 -> la 13.00 | E6: =[1]Kisajärjestelmä!K13 -> la 13.00 | F6: <- tämä luku kopioituu 1. välilehdeltä K sarakkeesta
A7: Elimination | B7: =(B4-B8)/B4 -> -0.01010101 | C7: =(C4-C8)/C4 -> 0.015151515 | D7: =(D4-D8)/D4 -> -0.01010101 | E7: =(E4-E8)/E4 -> 0.0056818182 | F7: <- tästä voi nähdä pudotettujen %määrän (perustuu riville 8 syötettyyn arvoon)
A8: Qualified | B8: 20 | C8: 26 | D8: 30 | E8: 35 | F8: <- tähän syötetään haluttu määrä jatkoon pääseviä
A9: The First round of DE | B9: 32 | C9: 32 | D9: 32 | E9: 64 | F9: <- tähän syötetään ensimmäisen DE vaiheen numero (esim. 30 pääsee jatkoon -> eka DE 32
A10: Mathes in the first round of DE | B10: =B9/2-(B9-B8) -> 4 | C10: =C9/2-(C9-C8) -> 10 | D10: =D9/2-(D9-D8) -> 14 | E10: =E9/2-(E9-E8) -> 3 | F10: <- tästä näkee ensimmäisen DE vaiheen matsien määrän (jatkossa matsien määrä = DE numero / 2)
A13: Pistes preliminary
D14: 1 | E14: 2 | F14: 3 | G14: 4 | H14: 5 | I14: 6 | J14: 7 | K14: 8 | L14: 9 | M14: 10 | N14: 11 | O14: 12
B15: Start | C15: End | P15: Start | Q15: End
B16: 8.3 | C16: =B17 -> 8.45 | P16: 8.3 | Q16: =P17 -> 8.45
B17: =B16+0.15 -> 8.45 | C17: =B18 -> 9 | P17: =P16+0.15 -> 8.45 | Q17: =P18 -> 9
B18: 9 | C18: =B19 -> 9.15 | D18: pools | G18: pools | P18: 9 | Q18: =P19 -> 9.15
B19: =B18+0.15 -> 9.15 | C19: =B20 -> 9.3 | P19: =P18+0.15 -> 9.15 | Q19: =P20 -> 9.3
B20: =B19+0.15 -> 9.3 | C20: =B21 -> 9.45 | P20: =P19+0.15 -> 9.3 | Q20: =P21 -> 9.45
B21: =B20+0.15 -> 9.45 | C21: =B22 -> 10 | P21: =P20+0.15 -> 9.45 | Q21: =P22 -> 10
B22: 10 | C22: =B23 -> 10.15 | P22: 10 | Q22: =P23 -> 10.15
B23: =B22+0.15 -> 10.15 | C23: =B24 -> 10.3 | P23: =P22+0.15 -> 10.15 | Q23: =P24 -> 10.3
B24: =B23+0.15 -> 10.3 | C24: =B25 -> 10.45 | P24: =P23+0.15 -> 10.3 | Q24: =P25 -> 10.45
B25: =B24+0.15 -> 10.45 | C25: =B26 -> 11 | P25: =P24+0.15 -> 10.45 | Q25: =P26 -> 11
B26: 11 | C26: =B27 -> 11.15 | P26: 11 | Q26: =P27 -> 11.15
B27: =B26+0.15 -> 11.15 | C27: =B28 -> 11.3 | D27: CUP32 | H27: CUP32 | P27: =P26+0.15 -> 11.15 | Q27: =P28 -> 11.3
B28: =B27+0.15 -> 11.3 | C28: =B29 -> 11.45 | P28: =P27+0.15 -> 11.3 | Q28: =P29 -> 11.45
B29: =B28+0.15 -> 11.45 | C29: =B30 -> 12 | D29: CUP16 | P29: =P28+0.15 -> 11.45 | Q29: =P30 -> 12
B30: 12 | C30: =B31 -> 12.15 | D30: CUP16 | P30: 12 | Q30: =P31 -> 12.15
B31: =B30+0.15 -> 12.15 | C31: =B32 -> 12.3 | D31: CUP8 | P31: =P30+0.15 -> 12.15 | Q31: =P32 -> 12.3
B32: =B31+0.15 -> 12.3 | C32: =B33 -> 12.45 | D32: CUP8 | P32: =P31+0.15 -> 12.3 | Q32: =P33 -> 12.45
B33: =B32+0.15 -> 12.45 | C33: =B34 -> 13 | D33: SEMI | P33: =P32+0.15 -> 12.45 | Q33: =P34 -> 13
B34: 13 | C34: =B35 -> 13.15 | D34: SEMI | F34: pools | K34: pools | P34: 13 | Q34: =P35 -> 13.15
B35: =B34+0.15 -> 13.15 | C35: =B36 -> 13.3 | D35: FIN | P35: =P34+0.15 -> 13.15 | Q35: =P36 -> 13.3
B36: =B35+0.15 -> 13.3 | C36: =B37 -> 13.45 | D36: FIN | P36: =P35+0.15 -> 13.3 | Q36: =P37 -> 13.45
B37: =B36+0.15 -> 13.45 | C37: =B38 -> 14 | P37: =P36+0.15 -> 13.45 | Q37: =P38 -> 14
B38: 14 | C38: =B39 -> 14.15 | P38: 14 | Q38: =P39 -> 14.15
B39: =B38+0.15 -> 14.15 | C39: =B40 -> 14.3 | P39: =P38+0.15 -> 14.15 | Q39: =P40 -> 14.3
B40: =B39+0.15 -> 14.3 | C40: =B41 -> 14.45 | P40: =P39+0.15 -> 14.3 | Q40: =P41 -> 14.45
B41: =B40+0.15 -> 14.45 | C41: =B42 -> 15 | P41: =P40+0.15 -> 14.45 | Q41: =P42 -> 15
B42: 15 | C42: =B43 -> 15.15 | D42: CUP32 | K42: CUP64 | P42: 15 | Q42: =P43 -> 15.15
B43: =B42+0.15 -> 15.15 | C43: =B44 -> 15.3 | P43: =P42+0.15 -> 15.15 | Q43: =P44 -> 15.3
...

Sheet Sunnuntai_täytetty
B1: SUNDAY
A3: Series | B3: =[1]Kisajärjestelmä!B16 -> Miehet | C3: =[1]Kisajärjestelmä!B18 -> Naiset | D3: =[1]Kisajärjestelmä!B20 -> 0 | E3: =[1]Kisajärjestelmä!B22 -> 0 | F3: =[1]Kisajärjestelmä!B24 -> 0 | G3: <- tämä kopioituu 1. välilehdeltä B sarakkeesta
A4: Registered | B4: =[1]Kisajärjestelmä!D16 -> 55 | C4: =[1]Kisajärjestelmä!D18 -> 42 | D4: =[1]Kisajärjestelmä!D20 -> 0 | E4: =[1]Kisajärjestelmä!D22 -> 0 | F4: =[1]Kisajärjestelmä!D24 -> 0 | G4: <- tämä luku kopioituu 1. välilehdeltä D sarakkeesta
A5: Pistes for need pools | B5: =[1]Kisajärjestelmä!S16 -> 8 | C5: =[1]Kisajärjestelmä!S18 -> 6 | D5: =[1]Kisajärjestelmä!S20 -> 0 | E5: =[1]Kisajärjestelmä!S22 -> 0 | F5: =[1]Kisajärjestelmä!S24 -> 0 | G5: <- tämä luku kopioituu 1. välilehdeltä S sarakkeesta
A6: Starting time | B6: =[1]Kisajärjestelmä!K16 -> su 9.00 | C6: =[1]Kisajärjestelmä!K18 -> su 11.00 | D6: =[1]Kisajärjestelmä!K20 -> 0 | E6: =[1]Kisajärjestelmä!K22 -> 0 | F6: =[1]Kisajärjestelmä!K24 -> 0 | G6: <- tämä luku kopioituu 1. välilehdeltä K sarakkeesta
A7: Elimination | B7: =(B4-B8)/B4 -> 0 | C7: =(C4-C8)/C4 -> 0 | D7: =(D4-D8)/D4 -> #DIV/0! | E7: =(E4-E8)/E4 -> #DIV/0! | F7: =(F4-F8)/F4 -> #DIV/0! | G7: <- tästä voi nähdä pudotettujen %määrän (perustuu riville 8 syötettyyn arvoon)
A8: Qualified | B8: 55 | C8: 42 | G8: <- tähän syötetään haluttu määrä jatkoon pääseviä
A9: The First round of DE | B9: 64 | C9: 64 | G9: <- tähän syötetään ensimmäisen DE vaiheen numero (esim. 30 pääsee jatkoon -> eka DE 32
A10: Mathes in the first round of DE | B10: =B9/2-(B9-B8) -> 23 | C10: =C9/2-(C9-C8) -> 10 | D10: =D9/2-(D9-D8) -> 0 | E10: =E9/2-(E9-E8) -> 0 | F10: =F9/2-(F9-F8) -> 0 | G10: <- tästä näkee ensimmäisen DE vaiheen matsien määrän (jatkossa matsien määrä = DE numero / 2)
A13: Pistes preliminary
D14: 1 | E14: 2 | F14: 3 | G14: 4 | H14: 5 | I14: 6 | J14: 7 | K14: 8 | L14: 9 | M14: 10 | N14: 11 | O14: 12
B15: Start | C15: End | P15: Start | Q15: End
B16: 8.3 | C16: =B17 -> 8.45 | P16: 8.3 | Q16: =P17 -> 8.45
B17: =B16+0.15 -> 8.45 | C17: =B18 -> 9 | P17: =P16+0.15 -> 8.45 | Q17: =P18 -> 9
B18: 9 | C18: =B19 -> 9.15 | D18: pools | P18: 9 | Q18: =P19 -> 9.15
B19: =B18+0.15 -> 9.15 | C19: =B20 -> 9.3 | P19: =P18+0.15 -> 9.15 | Q19: =P20 -> 9.3
B20: =B19+0.15 -> 9.3 | C20: =B21 -> 9.45 | P20: =P19+0.15 -> 9.3 | Q20: =P21 -> 9.45
B21: =B20+0.15 -> 9.45 | C21: =B22 -> 10 | P21: =P20+0.15 -> 9.45 | Q21: =P22 -> 10
B22: 10 | C22: =B23 -> 10.15 | P22: 10 | Q22: =P23 -> 10.15
B23: =B22+0.15 -> 10.15 | C23: =B24 -> 10.3 | P23: =P22+0.15 -> 10.15 | Q23: =P24 -> 10.3
B24: =B23+0.15 -> 10.3 | C24: =B25 -> 10.45 | P24: =P23+0.15 -> 10.3 | Q24: =P25 -> 10.45
B25: =B24+0.15 -> 10.45 | C25: =B26 -> 11 | P25: =P24+0.15 -> 10.45 | Q25: =P26 -> 11
B26: 11 | C26: =B27 -> 11.15 | J26: pools | P26: 11 | Q26: =P27 -> 11.15
B27: =B26+0.15 -> 11.15 | C27: =B28 -> 11.3 | D27: CUP64 | P27: =P26+0.15 -> 11.15 | Q27: =P28 -> 11.3
B28: =B27+0.15 -> 11.3 | C28: =B29 -> 11.45 | P28: =P27+0.15 -> 11.3 | Q28: =P29 -> 11.45
B29: =B28+0.15 -> 11.45 | C29: =B30 -> 12 | P29: =P28+0.15 -> 11.45 | Q29: =P30 -> 12
B30: 12 | C30: =B31 -> 12.15 | P30: 12 | Q30: =P31 -> 12.15
B31: =B30+0.15 -> 12.15 | C31: =B32 -> 12.3 | P31: =P30+0.15 -> 12.15 | Q31: =P32 -> 12.3
B32: =B31+0.15 -> 12.3 | C32: =B33 -> 12.45 | D32: CUP32 | P32: =P31+0.15 -> 12.3 | Q32: =P33 -> 12.45
B33: =B32+0.15 -> 12.45 | C33: =B34 -> 13 | P33: =P32+0.15 -> 12.45 | Q33: =P34 -> 13
B34: 13 | C34: =B35 -> 13.15 | P34: 13 | Q34: =P35 -> 13.15
B35: =B34+0.15 -> 13.15 | C35: =B36 -> 13.3 | D35: CUP64 | P35: =P34+0.15 -> 13.15 | Q35: =P36 -> 13.3
B36: =B35+0.15 -> 13.3 | C36: =B37 -> 13.45 | D36: CUP16 | H36: CUP32 | P36: =P35+0.15 -> 13.3 | Q36: =P37 -> 13.45
B37: =B36+0.15 -> 13.45 | C37: =B38 -> 14 | P37: =P36+0.15 -> 13.45 | Q37: =P38 -> 14
B38: 14 | C38: =B39 -> 14.15 | P38: 14 | Q38: =P39 -> 14.15
B39: =B38+0.15 -> 14.15 | C39: =B40 -> 14.3 | D39: CUP8 | H39: CUP16 | P39: =P38+0.15 -> 14.15 | Q39: =P40 -> 14.3
B40: =B39+0.15 -> 14.3 | C40: =B41 -> 14.45 | P40: =P39+0.15 -> 14.3 | Q40: =P41 -> 14.45
B41: =B40+0.15 -> 14.45 | C41: =B42 -> 15 | D41: SEMI | F41: CUP8 | P41: =P40+0.15 -> 14.45 | Q41: =P42 -> 15
B42: 15 | C42: =B43 -> 15.15 | P42: 15 | Q42: =P43 -> 15.15
B43: =B42+0.15 -> 15.15 | C43: =B44 -> 15.3 | D43: FIN | F43: SEMI | P43: =P42+0.15 -> 15.15 | Q43: =P44 -> 15.3
...

Sheet Tuomarit_täytetty
B1: Nimi | C1: Velvoite | D1: Lauantai | H1: Nimi | I1: Velvoite | J1: Sunnuntai
A2: Tarve max. | D2: 10 | J2: 12
A3: Sarja | D3: =[1]Kisajärjestelmä!B7 -> U20 pojat | E3: =[1]Kisajärjestelmä!B9 -> U20 tytöt | F3: =[1]Kisajärjestelmä!B11 -> U15 pojat | G3: =[1]Kisajärjestelmä!B13 -> U15 tytöt | J3: =[1]Kisajärjestelmä!B16 -> Miehet | K3: =[1]Kisajärjestelmä!B18 -> Naiset | L3: =[1]Kisajärjestelmä!B20 -> 0 | M3: =[1]Kisajärjestelmä!B22 -> 0
A4: TARVE | D4: 4 | E4: 5 | F4: 5 | G4: 5 | J4: 8 | K4: 8
A5: 1 | B5: AA | C5: HFM | D5: X | G5: X | H5: AA | I5: HFM | J5: X | K5: X
A6: =A5+1 -> 2 | B6: BB | C6: Habda | E6: X | F6: X | H6: BB | I6: Habda | J6: X | K6: X
A7: =A6+1 -> 3 | B7: CC | C7: TMÅF | E7: X | F7: X | H7: CC | I7: TMÅF | K7: X
A8: =A7+1 -> 4 | B8: DD | C8: EM | D8: X | G8: X | H8: DD | I8: EM | J8: X | K8: X
A9: =A8+1 -> 5 | B9: EE | C9: TM | D9: X | G9: X | H9: EE | I9: TM | J9: X
A10: =A9+1 -> 6 | B10: FF | C10: Kave | D10: X | G10: X | H10: FF | I10: Kave | J10: X | K10: X
A11: =A10+1 -> 7 | B11: GG | C11: SBSK | E11: X | F11: X | H11: GG | I11: SBSK | J11: X | K11: X
A12: =A11+1 -> 8 | B12: HH | C12: LeGlaive | E12: X | F12: X | H12: HH | I12: LeGlaive | J12: X | K12: X
A13: =A12+1 -> 9 | B13: II | C13: Hymi | E13: X | F13: X | H13: II | I13: Hymi | J13: X
A14: =A13+1 -> 10 | B14: JJ | C14: La Spada | E14: X | G14: X | H14: JJ | I14: La Spada | K14: X
A15: =A14+1 -> 11
A16: =A15+1 -> 12
A17: =A16+1 -> 13
A18: =A17+1 -> 14
A19: =A18+1 -> 15
A20: =A19+1 -> 16
A21: =A20+1 -> 17
A22: =A21+1 -> 18
A23: =A22+1 -> 19
A24: =A23+1 -> 20
A25: =A24+1 -> 21
A26: =A25+1 -> 22
... A29: =A28+1 -> 25

Sheet Aluekartta_täytetty
C1: 1 | E1: 2 | G1: 3 | I1: 4 | K1: 5 | M1: 6 | O1: 7 | Q1: 8 | S1: 9 | U1: 10 | W1: 11 | Y1: 12 | AA1: 13 | AC1: 14 | AE1: 15 | AG1: 16 | AI1: 17 | AK1: 18 | AM1: 19 | AO1: 20 | AQ1: 21 | AS1: 22 | AU1: 23 | AW1: 24 | AY1: 25 | BA1: 26 | BC1: 27 | BE1: 28 | BG1: 29 | BI1: 30 | BK1: 31 | BM1: 32 | BO1: 33 | BQ1: 34 | BS1: 35 | BU1: 36 | BW1: 37 | BY1: 38 | CA1: 39 | CC1: 40 | CE1: 41 | CG1: 42 | CH1: metriä
A2: 0,50
A3: 1
A4: 1,50
A5: 2 | S5: 11 | BL5: 12
A6: 2,50
A7: 3
A8: 3,50
A9: 4 | S9: Pöytä | BL9: Pöytä
A10: 4,50
A11: 5
A12: 5,50 | S12: 9 | BL12: 10
A13: 6
A14: 6,50
A15: 7
A16: 7,50
A17: 8
A18: 8,50
A19: 9
A20: 9,50
A21: 10
A22: 10,50
A23: 11 | S23: 7 | BL23: 8
A24: 11,50
A25: 12
A26: 12,50
A27: 13 | S27: Pöytä | BL27: Pöytä
A28: 13,50
A29: 14
A30: 14,50 | S30: 5 | BL30: 6
A31: 15
A32: 15,50
A33: 16
A34: 16,50
A35: 17
A36: 17,50
A37: 18
A38: 18,50
A39: 19
A40: 19,50
...
